BEGIN:VCALENDAR
VERSION:2.0
PRODID:-//DMSC - ECPv6.15.20//NONSGML v1.0//EN
CALSCALE:GREGORIAN
METHOD:PUBLISH
X-WR-CALNAME:DMSC
X-ORIGINAL-URL:https://qifstandards.org
X-WR-CALDESC:Events for DMSC
REFRESH-INTERVAL;VALUE=DURATION:PT1H
X-Robots-Tag:noindex
X-PUBLISHED-TTL:PT1H
BEGIN:VTIMEZONE
TZID:America/New_York
BEGIN:DAYLIGHT
TZOFFSETFROM:-0500
TZOFFSETTO:-0400
TZNAME:EDT
DTSTART:20210314T070000
END:DAYLIGHT
BEGIN:STANDARD
TZOFFSETFROM:-0400
TZOFFSETTO:-0500
TZNAME:EST
DTSTART:20211107T060000
END:STANDARD
BEGIN:DAYLIGHT
TZOFFSETFROM:-0500
TZOFFSETTO:-0400
TZNAME:EDT
DTSTART:20220313T070000
END:DAYLIGHT
BEGIN:STANDARD
TZOFFSETFROM:-0400
TZOFFSETTO:-0500
TZNAME:EST
DTSTART:20221106T060000
END:STANDARD
BEGIN:DAYLIGHT
TZOFFSETFROM:-0500
TZOFFSETTO:-0400
TZNAME:EDT
DTSTART:20230312T070000
END:DAYLIGHT
BEGIN:STANDARD
TZOFFSETFROM:-0400
TZOFFSETTO:-0500
TZNAME:EST
DTSTART:20231105T060000
END:STANDARD
END:VTIMEZONE
BEGIN:VEVENT
DTSTART;TZID=America/New_York:20221201T150000
DTEND;TZID=America/New_York:20221201T160000
DTSTAMP:20260424T024009
CREATED:20220119T000634Z
LAST-MODIFIED:20220119T000634Z
UID:5032-1669906800-1669910400@qifstandards.org
SUMMARY:DMSC Board of Directors Meeting
DESCRIPTION:DMSC Board of Directors Meeting from your computer\, tablet or smartphone.\nThese meetings are open exclusively to Directors of the Digital Metrology Standards Consortium. Agendas will be announced by separate email to the Directors relevant to priorities and goals set by the Officers and Directors of the DMSC\, including the DMSC 2020+ Roadmap\, DMSC Working Groups activities\, ANSI and ISO related initiatives\, Membership Development\, and any requests from organizations and industry sectors working to implement the QIF/ISO 23952:2020 standard. \nSubscribe to receive DMSC News and Announcements for further updates on DMSC activities. \nFor Information on DMSC Membership Opportunities\, click here or contact Executive Director\, Mark Thomas if you are interested in serving on the DMSC Board. \nMeeting Link will be delivered exclusively to DMSC Directors
URL:https://qifstandards.org/event/dmsc-board-of-directors-meeting-51/
LOCATION:Virtual Event
CATEGORIES:DMSC Event
ORGANIZER;CN="Digital Metrology Standards Consortium (DMSC)":MAILTO:director@dmsc-inc.org
END:VEVENT
BEGIN:VEVENT
DTSTART;TZID=America/New_York:20221202T120000
DTEND;TZID=America/New_York:20221202T130000
DTSTAMP:20260424T024009
CREATED:20221128T160812Z
LAST-MODIFIED:20221128T160812Z
UID:5565-1669982400-1669986000@qifstandards.org
SUMMARY:Functional Testing WG
DESCRIPTION:Functional Testing Working Group Kick Off Meeting\nA key strategy for the QIF 4.0 Working Group is to integrate expert content from other related DMSC Working Groups (WG). \nSome of these other DMSC Working Groups are inactive (soon to be revived) and some are new. \nThe first new Working Group will be the “Functional Testing” WG. After developing a WG Charter\, the first task of this WG will be to build a model of non-shape testing\, particularly functional testing. This area is quantitatively different from what QIF has modeled in the past as it is not a shape. \nA WG kick-off meeting is planned\, and anyone with interest or functional testing expertise is invited and welcome to participate (DMSC membership encouraged\, but not required). Feel free to refer or invite a colleague. \nFunctional Testing Working Group – Kickoff Meeting\nFriday 12/2/2022 12pm EST\nhttps://join.external.lmco.com/samuel.r.gambrell/Q4QV3SKQ\n+1 303-824-6166\,\,318455607# \nNote: this is a Skype for Business meeting platform
URL:https://qifstandards.org/event/functional-testing-wg/
LOCATION:Virtual Event
CATEGORIES:DMSC Event
ORGANIZER;CN="Digital Metrology Standards Consortium (DMSC)":MAILTO:director@dmsc-inc.org
END:VEVENT
BEGIN:VEVENT
DTSTART;TZID=America/New_York:20221205T140000
DTEND;TZID=America/New_York:20221205T150000
DTSTAMP:20260424T024009
CREATED:20221121T192747Z
LAST-MODIFIED:20221122T025322Z
UID:5539-1670248800-1670252400@qifstandards.org
SUMMARY:QIF 4.0 Working Group
DESCRIPTION:The newly formed QIF 4.0 Working Group (WG) was activated in Q4-2022. The WG met 1-hour each week to get things started through November\, and will change cadence to every two weeks starting in December 2022 and beyond. \nDaniel Campbell (Capvidia) is the QIF 4.0 WG Chair\nDr. Tom Kramer is the QIF 4.0 WG Project Manager \nContact DMSC Executive Director Mark Thomas for additional information and access to the meeting link:\nEmail: mark.thomas@qifstandards.org\nPhone: 585-451-5800 \n 
URL:https://qifstandards.org/event/qif-4-0-working-group-5/
LOCATION:Virtual Event
CATEGORIES:DMSC Event
ORGANIZER;CN="Digital Metrology Standards Consortium (DMSC)":MAILTO:director@dmsc-inc.org
END:VEVENT
BEGIN:VEVENT
DTSTART;VALUE=DATE:20221209
DTEND;VALUE=DATE:20221210
DTSTAMP:20260424T024009
CREATED:20221121T193800Z
LAST-MODIFIED:20221121T193800Z
UID:5549-1670544000-1670630399@qifstandards.org
SUMMARY:DMSC Board Nominations Deadline
DESCRIPTION:The DMSC is accepting nominations for two open Board of Director positions. \nSee our News Article for qualifying details.
URL:https://qifstandards.org/event/dmsc-board-nominations-deadline/
LOCATION:Virtual Event
CATEGORIES:DMSC Event
ORGANIZER;CN="Digital Metrology Standards Consortium (DMSC)":MAILTO:director@dmsc-inc.org
END:VEVENT
BEGIN:VEVENT
DTSTART;TZID=America/New_York:20221214T110000
DTEND;TZID=America/New_York:20221214T120000
DTSTAMP:20260424T024009
CREATED:20220118T233254Z
LAST-MODIFIED:20220118T233254Z
UID:4990-1671015600-1671019200@qifstandards.org
SUMMARY:Model-Based Characteristic Working Group
DESCRIPTION:Model-Based Characteristics Working Group\nThe Model-Based Characteristics Working Group launched June 2020 and conducts twice monthly meetings for the purpose of developing a draft proposal for a new ANSI standard for Model-Based Characteristics: Nomenclature\, Definitions\, Symbols\, and Practice. \nChair: Mark Neilson\, TechAzul\nCo-Chair: Curtis Brown\, Honeywell FM&T / DMSC President \nWe encourage participation in this WG by DMSC Members as there is still plenty of time for meaningful contribution before the final draft is submitted to the DMSC Quality Measurement Standards Committee. Once submitted to ANSI\, review and approval can take many months before a new standard results (targeted for 2022). \nSubscribe to receive DMSC News and Announcements for further updates on the MBC WG activities. \nFor Information on DMSC Membership Opportunities\, click here or contact Executive Director\, Mark Thomas. \nMore Details on this DMSC Working Group – Click Here \nMeeting Link shared exclusively with Working Group Participants & DMSC Members
URL:https://qifstandards.org/event/model-based-characteristic-working-group-22/
LOCATION:Virtual Event
CATEGORIES:DMSC Event
ORGANIZER;CN="Digital Metrology Standards Consortium (DMSC)":MAILTO:director@dmsc-inc.org
END:VEVENT
BEGIN:VEVENT
DTSTART;TZID=America/New_York:20221215T100000
DTEND;TZID=America/New_York:20221215T110000
DTSTAMP:20260424T024009
CREATED:20220119T002520Z
LAST-MODIFIED:20220119T002520Z
UID:5055-1671098400-1671102000@qifstandards.org
SUMMARY:DMSC General Membership Meeting
DESCRIPTION:Join our monthly DMSC General Membership meeting from your computer\, tablet or smartphone.\nThese meetings are exclusive to all members of the Digital Metrology Standards Consortium. Attendees receive news and information about the latest activities of the DMSC Working Groups\, ANSI and ISO related initiatives\, as well as updates from those organizations who are implementing the QIF/ISO 23952:2020 standard. \nSubscribe to receive DMSC News and Announcements for further updates on DMSC activities. \nFor Information on DMSC Membership Opportunities\, click here or contact Executive Director\, Mark Thomas. \nMeeting Link shared exclusively with DMSC Member
URL:https://qifstandards.org/event/dmsc-general-membership-meeting-32/
LOCATION:Virtual Event
CATEGORIES:DMSC Event
ORGANIZER;CN="Digital Metrology Standards Consortium (DMSC)":MAILTO:director@dmsc-inc.org
END:VEVENT
BEGIN:VEVENT
DTSTART;TZID=America/New_York:20221215T150000
DTEND;TZID=America/New_York:20221215T160000
DTSTAMP:20260424T024009
CREATED:20220119T000748Z
LAST-MODIFIED:20220119T000748Z
UID:5034-1671116400-1671120000@qifstandards.org
SUMMARY:DMSC Board of Directors Meeting
DESCRIPTION:DMSC Board of Directors Meeting from your computer\, tablet or smartphone.\nThese meetings are open exclusively to Directors of the Digital Metrology Standards Consortium. Agendas will be announced by separate email to the Directors relevant to priorities and goals set by the Officers and Directors of the DMSC\, including the DMSC 2020+ Roadmap\, DMSC Working Groups activities\, ANSI and ISO related initiatives\, Membership Development\, and any requests from organizations and industry sectors working to implement the QIF/ISO 23952:2020 standard. \nSubscribe to receive DMSC News and Announcements for further updates on DMSC activities. \nFor Information on DMSC Membership Opportunities\, click here or contact Executive Director\, Mark Thomas if you are interested in serving on the DMSC Board. \nMeeting Link will be delivered exclusively to DMSC Directors
URL:https://qifstandards.org/event/dmsc-board-of-directors-meeting-52/
LOCATION:Virtual Event
CATEGORIES:DMSC Event
ORGANIZER;CN="Digital Metrology Standards Consortium (DMSC)":MAILTO:director@dmsc-inc.org
END:VEVENT
BEGIN:VEVENT
DTSTART;TZID=America/New_York:20221219T140000
DTEND;TZID=America/New_York:20221219T150000
DTSTAMP:20260424T024009
CREATED:20221121T192857Z
LAST-MODIFIED:20221122T025308Z
UID:5541-1671458400-1671462000@qifstandards.org
SUMMARY:QIF 4.0 Working Group
DESCRIPTION:The newly formed QIF 4.0 Working Group (WG) was activated in Q4-2022. The WG met 1-hour each week to get things started through November\, and will change cadence to every two weeks starting in December 2022 and beyond. \nDaniel Campbell (Capvidia) is the QIF 4.0 WG Chair\nDr. Tom Kramer is the QIF 4.0 WG Project Manager \nContact DMSC Executive Director Mark Thomas for additional information and access to the meeting link:\nEmail: mark.thomas@qifstandards.org\nPhone: 585-451-5800 \n 
URL:https://qifstandards.org/event/qif-4-0-working-group-6/
LOCATION:Virtual Event
CATEGORIES:DMSC Event
ORGANIZER;CN="Digital Metrology Standards Consortium (DMSC)":MAILTO:director@dmsc-inc.org
END:VEVENT
BEGIN:VEVENT
DTSTART;TZID=America/New_York:20221228T110000
DTEND;TZID=America/New_York:20221228T120000
DTSTAMP:20260424T024009
CREATED:20220118T233416Z
LAST-MODIFIED:20220118T233416Z
UID:4992-1672225200-1672228800@qifstandards.org
SUMMARY:Model-Based Characteristic Working Group
DESCRIPTION:Model-Based Characteristics Working Group\nThe Model-Based Characteristics Working Group launched June 2020 and conducts twice monthly meetings for the purpose of developing a draft proposal for a new ANSI standard for Model-Based Characteristics: Nomenclature\, Definitions\, Symbols\, and Practice. \nChair: Mark Neilson\, TechAzul\nCo-Chair: Curtis Brown\, Honeywell FM&T / DMSC President \nWe encourage participation in this WG by DMSC Members as there is still plenty of time for meaningful contribution before the final draft is submitted to the DMSC Quality Measurement Standards Committee. Once submitted to ANSI\, review and approval can take many months before a new standard results (targeted for 2022). \nSubscribe to receive DMSC News and Announcements for further updates on the MBC WG activities. \nFor Information on DMSC Membership Opportunities\, click here or contact Executive Director\, Mark Thomas. \nMore Details on this DMSC Working Group – Click Here \nMeeting Link shared exclusively with Working Group Participants & DMSC Members
URL:https://qifstandards.org/event/model-based-characteristic-working-group-23/
LOCATION:Virtual Event
CATEGORIES:DMSC Event
ORGANIZER;CN="Digital Metrology Standards Consortium (DMSC)":MAILTO:director@dmsc-inc.org
END:VEVENT
END:VCALENDAR