BEGIN:VCALENDAR
VERSION:2.0
PRODID:-//DMSC - ECPv6.15.20//NONSGML v1.0//EN
CALSCALE:GREGORIAN
METHOD:PUBLISH
X-WR-CALNAME:DMSC
X-ORIGINAL-URL:https://qifstandards.org
X-WR-CALDESC:Events for DMSC
REFRESH-INTERVAL;VALUE=DURATION:PT1H
X-Robots-Tag:noindex
X-PUBLISHED-TTL:PT1H
BEGIN:VTIMEZONE
TZID:America/New_York
BEGIN:DAYLIGHT
TZOFFSETFROM:-0500
TZOFFSETTO:-0400
TZNAME:EDT
DTSTART:20220313T070000
END:DAYLIGHT
BEGIN:STANDARD
TZOFFSETFROM:-0400
TZOFFSETTO:-0500
TZNAME:EST
DTSTART:20221106T060000
END:STANDARD
BEGIN:DAYLIGHT
TZOFFSETFROM:-0500
TZOFFSETTO:-0400
TZNAME:EDT
DTSTART:20230312T070000
END:DAYLIGHT
BEGIN:STANDARD
TZOFFSETFROM:-0400
TZOFFSETTO:-0500
TZNAME:EST
DTSTART:20231105T060000
END:STANDARD
BEGIN:DAYLIGHT
TZOFFSETFROM:-0500
TZOFFSETTO:-0400
TZNAME:EDT
DTSTART:20240310T070000
END:DAYLIGHT
BEGIN:STANDARD
TZOFFSETFROM:-0400
TZOFFSETTO:-0500
TZNAME:EST
DTSTART:20241103T060000
END:STANDARD
END:VTIMEZONE
BEGIN:VEVENT
DTSTART;TZID=America/New_York:20230109T140000
DTEND;TZID=America/New_York:20230109T150000
DTSTAMP:20260424T010507
CREATED:20221121T193106Z
LAST-MODIFIED:20230120T163400Z
UID:5543-1673272800-1673276400@qifstandards.org
SUMMARY:QIF 4.0 Working Group
DESCRIPTION:The newly formed QIF 4.0 Working Group (WG) was activated in Q4-2022. The WG met 1-hour each week to get things started through November\, and will change cadence to every two weeks starting in December 2022 and beyond. \nDaniel Campbell (Capvidia) is the QIF 4.0 WG Chair\nDr. Tom Kramer is the QIF 4.0 WG Project Manager \nContact DMSC Executive Director Mark Thomas for additional information and access to the meeting link:\nEmail: mark.thomas@qifstandards.org\nPhone: 585-451-5800 \n 
URL:https://qifstandards.org/event/qif-4-0-working-group-7/
LOCATION:Virtual Event
CATEGORIES:DMSC Event
ORGANIZER;CN="Digital Metrology Standards Consortium (DMSC)":MAILTO:director@dmsc-inc.org
END:VEVENT
BEGIN:VEVENT
DTSTART;TZID=America/New_York:20230111T110000
DTEND;TZID=America/New_York:20230111T120000
DTSTAMP:20260424T010507
CREATED:20230119T230354Z
LAST-MODIFIED:20230119T230354Z
UID:5694-1673434800-1673438400@qifstandards.org
SUMMARY:Model-Based Characteristics Working Group
DESCRIPTION:Model-Based Characteristics Working Group\nThe Model-Based Characteristics Working Group launched June 2020 and conducts meetings on the 2nd and 4th Wednesday of the Month (11a-12p ET) for the purpose of developing a draft proposal for a new ANSI standard for Model-Based Characteristics: Nomenclature\, Definitions\, Symbols\, and Practice. \nChair: Mark Neilson\, TechAzul\nCo-Chair: Curtis Brown\, Honeywell FM&T / DMSC President \nWe encourage participation in this WG by DMSC Members as there is still plenty of time for meaningful contribution before the final draft is submitted to the DMSC Quality Measurement Standards Committee. Once submitted to ANSI\, review and approval can take many months before a new standard results (targeted for 2023). \nSubscribe to receive DMSC News and Announcements for further updates on the MBC WG activities. \nFor Information on DMSC Membership Opportunities\, click here or contact Executive Director\, Mark Thomas. \nMore Details on this DMSC Working Group – Click Here \nMeeting Link shared exclusively with Working Group Participants & DMSC Members
URL:https://qifstandards.org/event/model-based-characteristics-working-group/
LOCATION:Virtual Event
CATEGORIES:DMSC Event
ORGANIZER;CN="Digital Metrology Standards Consortium (DMSC)":MAILTO:director@dmsc-inc.org
END:VEVENT
BEGIN:VEVENT
DTSTART;TZID=America/New_York:20230112T150000
DTEND;TZID=America/New_York:20230112T160000
DTSTAMP:20260424T010507
CREATED:20230119T224410Z
LAST-MODIFIED:20230119T224444Z
UID:5665-1673535600-1673539200@qifstandards.org
SUMMARY:DMSC Board of Directors Meeting
DESCRIPTION:DMSC Board of Directors Meeting from your computer\, tablet or smartphone.\nThese meetings are open exclusively to Directors of the Digital Metrology Standards Consortium. Agendas will be announced by separate email to the Directors relevant to priorities and goals set by the Officers and Directors of the DMSC\, including the DMSC 2020+ Roadmap\, DMSC Working Groups activities\, QIF 4.0 (next generation)\, ANSI and ISO related initiatives\, Membership Development\, and any requests from organizations and industry sectors working to implement the QIF/ISO 23952:2020 standard. \nSubscribe to receive DMSC News and Announcements for further updates on DMSC activities. \nFor Information on DMSC Membership Opportunities\, click here or contact Executive Director\, Mark Thomas if you are interested in serving on the DMSC Board. \nMeeting Link will be delivered exclusively to DMSC Directors\n 
URL:https://qifstandards.org/event/dmsc-board-of-directors-meeting-54/
LOCATION:Virtual Event
CATEGORIES:DMSC Event
ORGANIZER;CN="Digital Metrology Standards Consortium (DMSC)":MAILTO:director@dmsc-inc.org
END:VEVENT
BEGIN:VEVENT
DTSTART;TZID=America/New_York:20230118T140000
DTEND;TZID=America/New_York:20230118T150000
DTSTAMP:20260424T010507
CREATED:20221205T215459Z
LAST-MODIFIED:20221205T215459Z
UID:5580-1674050400-1674054000@qifstandards.org
SUMMARY:Functional Testing WG
DESCRIPTION:Functional Testing Working Group Kick Off Meeting\nA key strategy for the QIF 4.0 Working Group is to integrate expert content from other related DMSC Working Groups (WG). \nSome of these other DMSC Working Groups are inactive (soon to be revived) and some are new. \nThe first new Working Group will be the “Functional Testing” WG. After developing a WG Charter\, the first task of this WG will be to build a model of non-shape testing\, particularly functional testing. This area is quantitatively different from what QIF has modeled in the past as it is not a shape. \nA kick-off meeting was hosted Friday\, December 2\, 2022. Anyone with interest or functional testing expertise is invited and welcome to participate (DMSC membership encouraged\, but not required). Feel free to refer or invite a colleague. \nSnippets from our brief follow-up conversation with WG Chair Sam Gambrell (Lockheed Martin): \nInitial PowerPoint Slide Deck: click here \nMeeting Cadence:\nDepending on feedback from the next meeting and open actions it will be ever 2 or every 4 weeks \nTakeaway from Kick Off Meeting:\nWe are still working to identify the capabilities needed from QIF in order to support functional testing data.  Any use cases that DMSC membership can provide will be greatly appreciated. \n\nFunctional Testing Working Group\nWednesday 1/18/23 2pm EST\nhttps://join.external.lmco.com/samuel.r.gambrell/BSGKQD9Y\n+1 303-824-6166\,\,859917918# \nNote: this is a Skype for Business meeting platform
URL:https://qifstandards.org/event/functional-testing-wg-2/
LOCATION:Virtual Event
CATEGORIES:DMSC Event
ORGANIZER;CN="Digital Metrology Standards Consortium (DMSC)":MAILTO:director@dmsc-inc.org
END:VEVENT
BEGIN:VEVENT
DTSTART;TZID=America/New_York:20230119T100000
DTEND;TZID=America/New_York:20230119T110000
DTSTAMP:20260424T010507
CREATED:20230119T222124Z
LAST-MODIFIED:20230119T222124Z
UID:5641-1674122400-1674126000@qifstandards.org
SUMMARY:DMSC General Membership Meeting
DESCRIPTION:Join our monthly DMSC General Membership meeting from your computer\, tablet or smartphone.\nThese meetings are exclusive to all members of the Digital Metrology Standards Consortium. Attendees receive news and information about the latest activities of the DMSC Working Groups\, ANSI and ISO related initiatives\, as well as updates from those organizations who are implementing the QIF/ISO 23952:2020 standard. \nSubscribe to receive DMSC News and Announcements for further updates on DMSC activities. \nFor Information on DMSC Membership Opportunities\, click here or contact Executive Director\, Mark Thomas. \nMeeting Link shared exclusively with DMSC Member
URL:https://qifstandards.org/event/dmsc-general-membership-meeting-33/
LOCATION:Virtual Event
CATEGORIES:DMSC Event
ORGANIZER;CN="Digital Metrology Standards Consortium (DMSC)":MAILTO:director@dmsc-inc.org
END:VEVENT
BEGIN:VEVENT
DTSTART;TZID=America/New_York:20230123T140000
DTEND;TZID=America/New_York:20230123T150000
DTSTAMP:20260424T010507
CREATED:20221121T193342Z
LAST-MODIFIED:20230119T220623Z
UID:5547-1674482400-1674486000@qifstandards.org
SUMMARY:QIF 4.0 Working Group
DESCRIPTION:The newly formed QIF 4.0 Working Group (WG) was activated in Q4-2022. The WG meets 1-hour every other week and continue with that cadence until further notice. \nDaniel Campbell (Capvidia)\, QIF 4.0 WG Chair\nDr. Tom Kramer\, QIF 4.0 WG Project Manager \nContact DMSC Executive Director Mark Thomas for additional information and access to the meeting link:\nEmail: mark.thomas@qifstandards.org\nPhone: 585-451-5800 \n 
URL:https://qifstandards.org/event/qif-4-0-working-group-9/
LOCATION:Virtual Event
CATEGORIES:DMSC Event
ORGANIZER;CN="Digital Metrology Standards Consortium (DMSC)":MAILTO:director@dmsc-inc.org
END:VEVENT
BEGIN:VEVENT
DTSTART;TZID=America/New_York:20230125T110000
DTEND;TZID=America/New_York:20230125T120000
DTSTAMP:20260424T010507
CREATED:20230119T230509Z
LAST-MODIFIED:20230119T230509Z
UID:5696-1674644400-1674648000@qifstandards.org
SUMMARY:Model-Based Characteristics Working Group
DESCRIPTION:Model-Based Characteristics Working Group\nThe Model-Based Characteristics Working Group launched June 2020 and conducts meetings on the 2nd and 4th Wednesday of the Month (11a-12p ET) for the purpose of developing a draft proposal for a new ANSI standard for Model-Based Characteristics: Nomenclature\, Definitions\, Symbols\, and Practice. \nChair: Mark Neilson\, TechAzul\nCo-Chair: Curtis Brown\, Honeywell FM&T / DMSC President \nWe encourage participation in this WG by DMSC Members as there is still plenty of time for meaningful contribution before the final draft is submitted to the DMSC Quality Measurement Standards Committee. Once submitted to ANSI\, review and approval can take many months before a new standard results (targeted for 2023). \nSubscribe to receive DMSC News and Announcements for further updates on the MBC WG activities. \nFor Information on DMSC Membership Opportunities\, click here or contact Executive Director\, Mark Thomas. \nMore Details on this DMSC Working Group – Click Here \nMeeting Link shared exclusively with Working Group Participants & DMSC Members
URL:https://qifstandards.org/event/model-based-characteristics-working-group-2/
LOCATION:Virtual Event
CATEGORIES:DMSC Event
ORGANIZER;CN="Digital Metrology Standards Consortium (DMSC)":MAILTO:director@dmsc-inc.org
END:VEVENT
BEGIN:VEVENT
DTSTART;TZID=America/New_York:20230126T150000
DTEND;TZID=America/New_York:20230126T160000
DTSTAMP:20260424T010507
CREATED:20230119T224550Z
LAST-MODIFIED:20230119T224550Z
UID:5668-1674745200-1674748800@qifstandards.org
SUMMARY:DMSC Board of Directors Meeting
DESCRIPTION:DMSC Board of Directors Meeting from your computer\, tablet or smartphone.\nThese meetings are open exclusively to Directors of the Digital Metrology Standards Consortium. Agendas will be announced by separate email to the Directors relevant to priorities and goals set by the Officers and Directors of the DMSC\, including the DMSC 2020+ Roadmap\, DMSC Working Groups activities\, QIF 4.0 (next generation)\, ANSI and ISO related initiatives\, Membership Development\, and any requests from organizations and industry sectors working to implement the QIF/ISO 23952:2020 standard. \nSubscribe to receive DMSC News and Announcements for further updates on DMSC activities. \nFor Information on DMSC Membership Opportunities\, click here or contact Executive Director\, Mark Thomas if you are interested in serving on the DMSC Board. \nMeeting Link will be delivered exclusively to DMSC Directors\n 
URL:https://qifstandards.org/event/dmsc-board-of-directors-meeting-55/
LOCATION:Virtual Event
CATEGORIES:DMSC Event
ORGANIZER;CN="Digital Metrology Standards Consortium (DMSC)":MAILTO:director@dmsc-inc.org
END:VEVENT
END:VCALENDAR