BEGIN:VCALENDAR
VERSION:2.0
PRODID:-//DMSC - ECPv6.15.20//NONSGML v1.0//EN
CALSCALE:GREGORIAN
METHOD:PUBLISH
X-ORIGINAL-URL:https://qifstandards.org
X-WR-CALDESC:Events for DMSC
REFRESH-INTERVAL;VALUE=DURATION:PT1H
X-Robots-Tag:noindex
X-PUBLISHED-TTL:PT1H
BEGIN:VTIMEZONE
TZID:America/New_York
BEGIN:DAYLIGHT
TZOFFSETFROM:-0500
TZOFFSETTO:-0400
TZNAME:EDT
DTSTART:20220313T070000
END:DAYLIGHT
BEGIN:STANDARD
TZOFFSETFROM:-0400
TZOFFSETTO:-0500
TZNAME:EST
DTSTART:20221106T060000
END:STANDARD
BEGIN:DAYLIGHT
TZOFFSETFROM:-0500
TZOFFSETTO:-0400
TZNAME:EDT
DTSTART:20230312T070000
END:DAYLIGHT
BEGIN:STANDARD
TZOFFSETFROM:-0400
TZOFFSETTO:-0500
TZNAME:EST
DTSTART:20231105T060000
END:STANDARD
BEGIN:DAYLIGHT
TZOFFSETFROM:-0500
TZOFFSETTO:-0400
TZNAME:EDT
DTSTART:20240310T070000
END:DAYLIGHT
BEGIN:STANDARD
TZOFFSETFROM:-0400
TZOFFSETTO:-0500
TZNAME:EST
DTSTART:20241103T060000
END:STANDARD
END:VTIMEZONE
BEGIN:VEVENT
DTSTART;TZID=America/New_York:20230403T140000
DTEND;TZID=America/New_York:20230403T150000
DTSTAMP:20260423T192119
CREATED:20230119T220917Z
LAST-MODIFIED:20230119T220917Z
UID:5637-1680530400-1680534000@qifstandards.org
SUMMARY:QIF 4.0 Working Group
DESCRIPTION:The newly formed QIF 4.0 Working Group (WG) was activated in Q4-2022. The WG meets 1-hour every other week and continue with that cadence until further notice. \nDaniel Campbell (Capvidia)\, QIF 4.0 WG Chair\nDr. Tom Kramer\, QIF 4.0 WG Project Manager \nContact DMSC Executive Director Mark Thomas for additional information and access to the meeting link:\nEmail: mark.thomas@qifstandards.org\nPhone: 585-451-5800 \n 
URL:https://qifstandards.org/event/qif-4-0-working-group-13/
LOCATION:Virtual Event
CATEGORIES:DMSC Event
ORGANIZER;CN="Digital Metrology Standards Consortium (DMSC)":MAILTO:director@dmsc-inc.org
END:VEVENT
BEGIN:VEVENT
DTSTART;TZID=America/New_York:20230405T110000
DTEND;TZID=America/New_York:20230405T120000
DTSTAMP:20260423T192119
CREATED:20230327T190859Z
LAST-MODIFIED:20230327T190859Z
UID:5753-1680692400-1680696000@qifstandards.org
SUMMARY:Model-Based Characteristics Working Group
DESCRIPTION:Model-Based Characteristics Working Group\nThe Model-Based Characteristics Working Group launched June 2020 and conducts meetings on the 2nd and 4th Wednesday of the Month (11a-12p ET) for the purpose of developing a draft proposal for a new ANSI standard for Model-Based Characteristics: Nomenclature\, Definitions\, Symbols\, and Practice. Additional meetings may be added as deliverables demand. \nChair: Mark Neilson\, TechAzul\nCo-Chair: Curtis Brown\, Honeywell FM&T / DMSC President \nWe encourage participation in this WG by DMSC Members as there is still plenty of time for meaningful contribution before the final draft is submitted to the DMSC Quality Measurement Standards Committee. Once submitted to ANSI\, review and approval can take many months before a new standard results (targeted for 2023). \nSubscribe to receive DMSC News and Announcements for further updates on the MBC WG activities. \nFor Information on DMSC Membership Opportunities\, click here or contact Executive Director\, Mark Thomas. \nMore Details on this DMSC Working Group – Click Here \nMeeting Link shared exclusively with Working Group Participants & DMSC Members
URL:https://qifstandards.org/event/model-based-characteristics-working-group-9/
LOCATION:Virtual Event
ORGANIZER;CN="Digital Metrology Standards Consortium (DMSC)":MAILTO:director@dmsc-inc.org
END:VEVENT
BEGIN:VEVENT
DTSTART;TZID=America/New_York:20230406T150000
DTEND;TZID=America/New_York:20230406T160000
DTSTAMP:20260423T192119
CREATED:20230119T225157Z
LAST-MODIFIED:20230119T225328Z
UID:5678-1680793200-1680796800@qifstandards.org
SUMMARY:DMSC Board of Directors Meeting
DESCRIPTION:DMSC Board of Directors Meeting from your computer\, tablet or smartphone.\nThese meetings are open exclusively to Directors of the Digital Metrology Standards Consortium. Agendas will be announced by separate email to the Directors relevant to priorities and goals set by the Officers and Directors of the DMSC\, including the DMSC 2020+ Roadmap\, DMSC Working Groups activities\, QIF 4.0 (next generation)\, ANSI and ISO related initiatives\, Membership Development\, and any requests from organizations and industry sectors working to implement the QIF/ISO 23952:2020 standard. \nSubscribe to receive DMSC News and Announcements for further updates on DMSC activities. \nFor Information on DMSC Membership Opportunities\, click here or contact Executive Director\, Mark Thomas if you are interested in serving on the DMSC Board. \nMeeting Link will be delivered exclusively to DMSC Directors\n 
URL:https://qifstandards.org/event/5678/
LOCATION:Virtual Event
CATEGORIES:DMSC Event
ORGANIZER;CN="Digital Metrology Standards Consortium (DMSC)":MAILTO:director@dmsc-inc.org
END:VEVENT
BEGIN:VEVENT
DTSTART;TZID=America/New_York:20230412T110000
DTEND;TZID=America/New_York:20230412T120000
DTSTAMP:20260423T192119
CREATED:20230119T231621Z
LAST-MODIFIED:20230119T231621Z
UID:5708-1681297200-1681300800@qifstandards.org
SUMMARY:Model-Based Characteristics Working Group
DESCRIPTION:Model-Based Characteristics Working Group\nThe Model-Based Characteristics Working Group launched June 2020 and conducts meetings on the 2nd and 4th Wednesday of the Month (11a-12p ET) for the purpose of developing a draft proposal for a new ANSI standard for Model-Based Characteristics: Nomenclature\, Definitions\, Symbols\, and Practice. \nChair: Mark Neilson\, TechAzul\nCo-Chair: Curtis Brown\, Honeywell FM&T / DMSC President \nWe encourage participation in this WG by DMSC Members as there is still plenty of time for meaningful contribution before the final draft is submitted to the DMSC Quality Measurement Standards Committee. Once submitted to ANSI\, review and approval can take many months before a new standard results (targeted for 2023). \nSubscribe to receive DMSC News and Announcements for further updates on the MBC WG activities. \nFor Information on DMSC Membership Opportunities\, click here or contact Executive Director\, Mark Thomas. \nMore Details on this DMSC Working Group – Click Here \nMeeting Link shared exclusively with Working Group Participants & DMSC Members
URL:https://qifstandards.org/event/model-based-characteristics-working-group-7/
LOCATION:Virtual Event
CATEGORIES:DMSC Event
ORGANIZER;CN="Digital Metrology Standards Consortium (DMSC)":MAILTO:director@dmsc-inc.org
END:VEVENT
BEGIN:VEVENT
DTSTART;TZID=America/New_York:20230417T140000
DTEND;TZID=America/New_York:20230417T150000
DTSTAMP:20260423T192119
CREATED:20230119T221250Z
LAST-MODIFIED:20230119T221250Z
UID:5639-1681740000-1681743600@qifstandards.org
SUMMARY:QIF 4.0 Working Group
DESCRIPTION:The newly formed QIF 4.0 Working Group (WG) was activated in Q4-2022. The WG meets 1-hour every other week and continue with that cadence until further notice. \nDaniel Campbell (Capvidia)\, QIF 4.0 WG Chair\nDr. Tom Kramer\, QIF 4.0 WG Project Manager \nContact DMSC Executive Director Mark Thomas for additional information and access to the meeting link:\nEmail: mark.thomas@qifstandards.org\nPhone: 585-451-5800 \n 
URL:https://qifstandards.org/event/qif-4-0-working-group-14/
LOCATION:Virtual Event
CATEGORIES:DMSC Event
ORGANIZER;CN="Digital Metrology Standards Consortium (DMSC)":MAILTO:director@dmsc-inc.org
END:VEVENT
BEGIN:VEVENT
DTSTART;TZID=America/New_York:20230420T100000
DTEND;TZID=America/New_York:20230420T110000
DTSTAMP:20260423T192119
CREATED:20230119T222508Z
LAST-MODIFIED:20230119T222508Z
UID:5647-1681984800-1681988400@qifstandards.org
SUMMARY:DMSC General Membership Meeting
DESCRIPTION:Join our monthly DMSC General Membership meeting from your computer\, tablet or smartphone.\nThese meetings are exclusive to all members of the Digital Metrology Standards Consortium. Attendees receive news and information about the latest activities of the DMSC Working Groups\, ANSI and ISO related initiatives\, as well as updates from those organizations who are implementing the QIF/ISO 23952:2020 standard. \nSubscribe to receive DMSC News and Announcements for further updates on DMSC activities. \nFor Information on DMSC Membership Opportunities\, click here or contact Executive Director\, Mark Thomas. \nMeeting Link shared exclusively with DMSC Member
URL:https://qifstandards.org/event/dmsc-general-membership-meeting-36/
LOCATION:Virtual Event
CATEGORIES:DMSC Event
ORGANIZER;CN="Digital Metrology Standards Consortium (DMSC)":MAILTO:director@dmsc-inc.org
END:VEVENT
BEGIN:VEVENT
DTSTART;TZID=America/New_York:20230420T150000
DTEND;TZID=America/New_York:20230420T160000
DTSTAMP:20260423T192119
CREATED:20230119T225253Z
LAST-MODIFIED:20230119T225253Z
UID:5680-1682002800-1682006400@qifstandards.org
SUMMARY:DMSC Board of Directors Meeting
DESCRIPTION:DMSC Board of Directors Meeting from your computer\, tablet or smartphone.\nThese meetings are open exclusively to Directors of the Digital Metrology Standards Consortium. Agendas will be announced by separate email to the Directors relevant to priorities and goals set by the Officers and Directors of the DMSC\, including the DMSC 2020+ Roadmap\, DMSC Working Groups activities\, QIF 4.0 (next generation)\, ANSI and ISO related initiatives\, Membership Development\, and any requests from organizations and industry sectors working to implement the QIF/ISO 23952:2020 standard. \nSubscribe to receive DMSC News and Announcements for further updates on DMSC activities. \nFor Information on DMSC Membership Opportunities\, click here or contact Executive Director\, Mark Thomas if you are interested in serving on the DMSC Board. \nMeeting Link will be delivered exclusively to DMSC Directors\n 
URL:https://qifstandards.org/event/dmsc-board-of-directors-meeting-60/
LOCATION:Virtual Event
CATEGORIES:DMSC Event
ORGANIZER;CN="Digital Metrology Standards Consortium (DMSC)":MAILTO:director@dmsc-inc.org
END:VEVENT
BEGIN:VEVENT
DTSTART;TZID=America/New_York:20230426T110000
DTEND;TZID=America/New_York:20230426T120000
DTSTAMP:20260423T192119
CREATED:20230119T231722Z
LAST-MODIFIED:20230119T231722Z
UID:5711-1682506800-1682510400@qifstandards.org
SUMMARY:Model-Based Characteristics Working Group
DESCRIPTION:Model-Based Characteristics Working Group\nThe Model-Based Characteristics Working Group launched June 2020 and conducts meetings on the 2nd and 4th Wednesday of the Month (11a-12p ET) for the purpose of developing a draft proposal for a new ANSI standard for Model-Based Characteristics: Nomenclature\, Definitions\, Symbols\, and Practice. \nChair: Mark Neilson\, TechAzul\nCo-Chair: Curtis Brown\, Honeywell FM&T / DMSC President \nWe encourage participation in this WG by DMSC Members as there is still plenty of time for meaningful contribution before the final draft is submitted to the DMSC Quality Measurement Standards Committee. Once submitted to ANSI\, review and approval can take many months before a new standard results (targeted for 2023). \nSubscribe to receive DMSC News and Announcements for further updates on the MBC WG activities. \nFor Information on DMSC Membership Opportunities\, click here or contact Executive Director\, Mark Thomas. \nMore Details on this DMSC Working Group – Click Here \nMeeting Link shared exclusively with Working Group Participants & DMSC Members
URL:https://qifstandards.org/event/model-based-characteristics-working-group-8/
LOCATION:Virtual Event
CATEGORIES:DMSC Event
ORGANIZER;CN="Digital Metrology Standards Consortium (DMSC)":MAILTO:director@dmsc-inc.org
END:VEVENT
END:VCALENDAR