BEGIN:VCALENDAR
VERSION:2.0
PRODID:-//DMSC - ECPv6.15.20//NONSGML v1.0//EN
CALSCALE:GREGORIAN
METHOD:PUBLISH
X-WR-CALNAME:DMSC
X-ORIGINAL-URL:https://qifstandards.org
X-WR-CALDESC:Events for DMSC
REFRESH-INTERVAL;VALUE=DURATION:PT1H
X-Robots-Tag:noindex
X-PUBLISHED-TTL:PT1H
BEGIN:VTIMEZONE
TZID:America/New_York
BEGIN:DAYLIGHT
TZOFFSETFROM:-0500
TZOFFSETTO:-0400
TZNAME:EDT
DTSTART:20240310T070000
END:DAYLIGHT
BEGIN:STANDARD
TZOFFSETFROM:-0400
TZOFFSETTO:-0500
TZNAME:EST
DTSTART:20241103T060000
END:STANDARD
BEGIN:DAYLIGHT
TZOFFSETFROM:-0500
TZOFFSETTO:-0400
TZNAME:EDT
DTSTART:20250309T070000
END:DAYLIGHT
BEGIN:STANDARD
TZOFFSETFROM:-0400
TZOFFSETTO:-0500
TZNAME:EST
DTSTART:20251102T060000
END:STANDARD
BEGIN:DAYLIGHT
TZOFFSETFROM:-0500
TZOFFSETTO:-0400
TZNAME:EDT
DTSTART:20260308T070000
END:DAYLIGHT
BEGIN:STANDARD
TZOFFSETFROM:-0400
TZOFFSETTO:-0500
TZNAME:EST
DTSTART:20261101T060000
END:STANDARD
END:VTIMEZONE
BEGIN:VEVENT
DTSTART;TZID=America/New_York:20250319T140000
DTEND;TZID=America/New_York:20250319T150000
DTSTAMP:20260420T215137
CREATED:20250128T023847Z
LAST-MODIFIED:20250218T191955Z
UID:8176-1742392800-1742396400@qifstandards.org
SUMMARY:2D QIF Webinar
DESCRIPTION:During DMSC General Membership Meeting it was revealed that “2D QIF” was of high interest to a substantial portion of the DMSC membership. \nDMSC announces this topic will be addressed and explained in a 1-hour technical webinar on Wednesday\, March 19 @ 2pm ET. \nIf your engineering environment today is 2D drawings\, this webinar will describe the benefits of automation\, characteristic management\, and transition to MBD. Real life examples and strategy will be shown. \nRegister Here
URL:https://qifstandards.org/event/2d-qif-webinar/
CATEGORIES:DMSC Event
ORGANIZER;CN="Digital Metrology Standards Consortium (DMSC)":MAILTO:director@dmsc-inc.org
END:VEVENT
END:VCALENDAR