BEGIN:VCALENDAR
VERSION:2.0
PRODID:-//DMSC - ECPv6.15.20//NONSGML v1.0//EN
CALSCALE:GREGORIAN
METHOD:PUBLISH
X-ORIGINAL-URL:https://qifstandards.org
X-WR-CALDESC:Events for DMSC
REFRESH-INTERVAL;VALUE=DURATION:PT1H
X-Robots-Tag:noindex
X-PUBLISHED-TTL:PT1H
BEGIN:VTIMEZONE
TZID:America/New_York
BEGIN:DAYLIGHT
TZOFFSETFROM:-0500
TZOFFSETTO:-0400
TZNAME:EDT
DTSTART:20240310T070000
END:DAYLIGHT
BEGIN:STANDARD
TZOFFSETFROM:-0400
TZOFFSETTO:-0500
TZNAME:EST
DTSTART:20241103T060000
END:STANDARD
BEGIN:DAYLIGHT
TZOFFSETFROM:-0500
TZOFFSETTO:-0400
TZNAME:EDT
DTSTART:20250309T070000
END:DAYLIGHT
BEGIN:STANDARD
TZOFFSETFROM:-0400
TZOFFSETTO:-0500
TZNAME:EST
DTSTART:20251102T060000
END:STANDARD
BEGIN:DAYLIGHT
TZOFFSETFROM:-0500
TZOFFSETTO:-0400
TZNAME:EDT
DTSTART:20260308T070000
END:DAYLIGHT
BEGIN:STANDARD
TZOFFSETFROM:-0400
TZOFFSETTO:-0500
TZNAME:EST
DTSTART:20261101T060000
END:STANDARD
END:VTIMEZONE
BEGIN:VEVENT
DTSTART;TZID=America/New_York:20251016T140000
DTEND;TZID=America/New_York:20251016T150000
DTSTAMP:20260420T081502
CREATED:20250916T214051Z
LAST-MODIFIED:20250916T214051Z
UID:9163-1760623200-1760626800@qifstandards.org
SUMMARY:Webinar: Extending the Digital Thread with Model-Based Characteristics (MBC) and QIF
DESCRIPTION:Save the date for Thursday October 16 at 2:00 PM EST for a webinar hosted by Evan Kessick (Elysium) and Daniel Campbell (Rubypoint)\, “Extending the Digital Thread with Model-Based Characteristics (MBC) and QIF.” \nModel-Based Characteristics (MBC) and UUIDs are quickly becoming industry standard for ensuring engineering requirements remain intact\, persistent\, and traceable\, from design\, through manufacturing\, and into inspection. As digital tools continue to evolve\, so do the capabilities to create and maintain a digital thread using model-based characteristics. This thread can begin in native CAD\, extend through neutral formats like QIF\, and carry forward into a visual data package\, enabling enterprise consumption and traceability. \nParticipants will explore how modern CAD tools\, QIF\, and 3D viewables can extend their digital thread with model-based characteristics\, delivering accuracy\, consistency\, and efficiency across the product lifecycle. \nRegister Here \n 
URL:https://qifstandards.org/event/webinar-extending-the-digital-thread-with-model-based-characteristics-mbc-and-qif/
CATEGORIES:DMSC Event
ORGANIZER;CN="Digital Metrology Standards Consortium (DMSC)":MAILTO:director@dmsc-inc.org
END:VEVENT
END:VCALENDAR