BEGIN:VCALENDAR
VERSION:2.0
PRODID:-//DMSC - ECPv6.15.20//NONSGML v1.0//EN
CALSCALE:GREGORIAN
METHOD:PUBLISH
X-ORIGINAL-URL:https://qifstandards.org
X-WR-CALDESC:Events for DMSC
REFRESH-INTERVAL;VALUE=DURATION:PT1H
X-Robots-Tag:noindex
X-PUBLISHED-TTL:PT1H
BEGIN:VTIMEZONE
TZID:America/New_York
BEGIN:DAYLIGHT
TZOFFSETFROM:-0500
TZOFFSETTO:-0400
TZNAME:EDT
DTSTART:20210314T070000
END:DAYLIGHT
BEGIN:STANDARD
TZOFFSETFROM:-0400
TZOFFSETTO:-0500
TZNAME:EST
DTSTART:20211107T060000
END:STANDARD
BEGIN:DAYLIGHT
TZOFFSETFROM:-0500
TZOFFSETTO:-0400
TZNAME:EDT
DTSTART:20220313T070000
END:DAYLIGHT
BEGIN:STANDARD
TZOFFSETFROM:-0400
TZOFFSETTO:-0500
TZNAME:EST
DTSTART:20221106T060000
END:STANDARD
BEGIN:DAYLIGHT
TZOFFSETFROM:-0500
TZOFFSETTO:-0400
TZNAME:EDT
DTSTART:20230312T070000
END:DAYLIGHT
BEGIN:STANDARD
TZOFFSETFROM:-0400
TZOFFSETTO:-0500
TZNAME:EST
DTSTART:20231105T060000
END:STANDARD
END:VTIMEZONE
BEGIN:VEVENT
DTSTART;VALUE=DATE:20220830
DTEND;VALUE=DATE:20220901
DTSTAMP:20260424T024340
CREATED:20220714T223348Z
LAST-MODIFIED:20220714T223348Z
UID:5342-1661817600-1661990399@qifstandards.org
SUMMARY:CCAM Smart Manufacturing Event
DESCRIPTION:CCAM (Commonwealth Center for Advanced Manufacturing) of Disputanta\, VA is holding an in-person Smart Manufacturing event on August 30 & 31\, 2022 at their Virginia facility. Subject matter of this event is directly relevant to the Digital Metrology Standards Consortium (DMSC) and QIF community. \nThis two-day event will include a session on Digital Technology to Impact Smart Manufacturing on Day One (August 30). Day Two will feature Digital Thread Workshops on Wednesday\, August 31st. Participants will be able to collaborate with CCAM’s research team\, DMSC members\, and Subject Matter Experts (SMEs) in deep-dive interactive sessions that demonstrate use of the digital thread to apply technology advancements including sensing\, measurement & process control; adaptive automation; machine learning; vision systems; robotics; distributed manufacturing; and more and will offer a deeper dive into collaborative opportunities at CCAM. Both days will include practical examples of QIF usage and how QIF relates to the bigger picture in digital manufacturing. \nThis is a no-cost event; however\, registration is required. Anyone interested in the big picture possibilities of advanced manufacturing research is encouraged to attend. \nFor more details click here and contact: \nLorin S. Sodell\nDirector of Business Development & Advanced Manufacturing Education\nCommonwealth Center for Advanced Manufacturing (CCAM)\nphone: 1-804-332-4501\nemail:   lorin.sodell@ccam-va.com
URL:https://qifstandards.org/event/ccam-smart-manufacturing-event/
LOCATION:CCAM Virginia Offices\, 5520 W Quaker Road\, Disputanta\, VA\, 23842\, United States
CATEGORIES:Industry Event
END:VEVENT
END:VCALENDAR