BEGIN:VCALENDAR
VERSION:2.0
PRODID:-//DMSC - ECPv6.15.20//NONSGML v1.0//EN
CALSCALE:GREGORIAN
METHOD:PUBLISH
X-WR-CALNAME:DMSC
X-ORIGINAL-URL:https://qifstandards.org
X-WR-CALDESC:Events for DMSC
REFRESH-INTERVAL;VALUE=DURATION:PT1H
X-Robots-Tag:noindex
X-PUBLISHED-TTL:PT1H
BEGIN:VTIMEZONE
TZID:America/New_York
BEGIN:DAYLIGHT
TZOFFSETFROM:-0500
TZOFFSETTO:-0400
TZNAME:EDT
DTSTART:20210314T070000
END:DAYLIGHT
BEGIN:STANDARD
TZOFFSETFROM:-0400
TZOFFSETTO:-0500
TZNAME:EST
DTSTART:20211107T060000
END:STANDARD
BEGIN:DAYLIGHT
TZOFFSETFROM:-0500
TZOFFSETTO:-0400
TZNAME:EDT
DTSTART:20220313T070000
END:DAYLIGHT
BEGIN:STANDARD
TZOFFSETFROM:-0400
TZOFFSETTO:-0500
TZNAME:EST
DTSTART:20221106T060000
END:STANDARD
BEGIN:DAYLIGHT
TZOFFSETFROM:-0500
TZOFFSETTO:-0400
TZNAME:EDT
DTSTART:20230312T070000
END:DAYLIGHT
BEGIN:STANDARD
TZOFFSETFROM:-0400
TZOFFSETTO:-0500
TZNAME:EST
DTSTART:20231105T060000
END:STANDARD
END:VTIMEZONE
BEGIN:VEVENT
DTSTART;TZID=America/New_York:20220912T080000
DTEND;TZID=America/New_York:20220917T170000
DTSTAMP:20260424T010835
CREATED:20220118T211254Z
LAST-MODIFIED:20220815T201335Z
UID:4932-1662969600-1663434000@qifstandards.org
SUMMARY:IMTS 2022
DESCRIPTION:IMTS 2022 will raise expectations of what challenges manufacturing can address. Experience the power of new equipment\, software\, and products to move your business forward. Discover the effectiveness of transformative technologies. Connect with industry experts and peers to partner on new initiatives. \nDMSC will attend and participate … find us in Booth #135000. We are lining up other activities that will allow us to engage with our members as well as QIF implementers on ground in manufacturing and other metrology solution providers. \nTo optimize your time at the show\, exhibits are organized into Pavilions that are geared toward specific industries\, technologies and solutions. \n2022 marks the 33rd edition of this premier manufacturing technology show in North America. More than 2\,400 exhibitors from the manufacturing industry will display the latest products and technologies at IMTS. To help optimize your time at the show\, look for organize exhibits in Pavilions that are geared toward specific industries\, technologies and solutions. \nRegistration Link
URL:https://qifstandards.org/event/imts-2022/
LOCATION:McCormick Place\, Chicago\, IL\, United States
CATEGORIES:Industry Event
END:VEVENT
END:VCALENDAR