BEGIN:VCALENDAR
VERSION:2.0
PRODID:-//DMSC - ECPv6.15.20//NONSGML v1.0//EN
CALSCALE:GREGORIAN
METHOD:PUBLISH
X-ORIGINAL-URL:https://qifstandards.org
X-WR-CALDESC:Events for DMSC
REFRESH-INTERVAL;VALUE=DURATION:PT1H
X-Robots-Tag:noindex
X-PUBLISHED-TTL:PT1H
BEGIN:VTIMEZONE
TZID:America/New_York
BEGIN:DAYLIGHT
TZOFFSETFROM:-0500
TZOFFSETTO:-0400
TZNAME:EDT
DTSTART:20240310T070000
END:DAYLIGHT
BEGIN:STANDARD
TZOFFSETFROM:-0400
TZOFFSETTO:-0500
TZNAME:EST
DTSTART:20241103T060000
END:STANDARD
BEGIN:DAYLIGHT
TZOFFSETFROM:-0500
TZOFFSETTO:-0400
TZNAME:EDT
DTSTART:20250309T070000
END:DAYLIGHT
BEGIN:STANDARD
TZOFFSETFROM:-0400
TZOFFSETTO:-0500
TZNAME:EST
DTSTART:20251102T060000
END:STANDARD
BEGIN:DAYLIGHT
TZOFFSETFROM:-0500
TZOFFSETTO:-0400
TZNAME:EDT
DTSTART:20260308T070000
END:DAYLIGHT
BEGIN:STANDARD
TZOFFSETFROM:-0400
TZOFFSETTO:-0500
TZNAME:EST
DTSTART:20261101T060000
END:STANDARD
END:VTIMEZONE
BEGIN:VEVENT
DTSTART;TZID=America/New_York:20250807T150000
DTEND;TZID=America/New_York:20250807T160000
DTSTAMP:20260420T215829
CREATED:20250424T203728Z
LAST-MODIFIED:20250424T203728Z
UID:8842-1754578800-1754582400@qifstandards.org
SUMMARY:DMSC Board of Directors Meeting
DESCRIPTION:DMSC Board of Directors Meeting from your computer\, tablet or smartphone.\nThese meetings are open exclusively to Directors of the Digital Metrology Standards Consortium. Agendas will be announced by separate email to the Directors relevant to priorities and goals set by the Officers and Directors of the DMSC\, including the DMSC 2020+ Roadmap\, DMSC Working Groups activities\, QIF 4.0 (next generation)\, ANSI and ISO related initiatives\, Membership Development\, and any requests from organizations and industry sectors working to implement the QIF/ISO 23952:2020 standard. \nSubscribe to receive DMSC News and Announcements for further updates on DMSC activities. \nFor Information on DMSC Membership Opportunities\, click here or contact Executive Director\, Mark Thomas if you are interested in serving on the DMSC Board. \nMeeting Link will be delivered exclusively to DMSC Directors\n 
URL:https://qifstandards.org/event/dmsc-board-of-directors-meeting-116/
LOCATION:Virtual Event
CATEGORIES:DMSC Event
ORGANIZER;CN="Digital Metrology Standards Consortium (DMSC)":MAILTO:director@dmsc-inc.org
END:VEVENT
BEGIN:VEVENT
DTSTART;TZID=America/New_York:20250821T150000
DTEND;TZID=America/New_York:20250821T160000
DTSTAMP:20260420T215829
CREATED:20250424T203743Z
LAST-MODIFIED:20250424T203743Z
UID:8844-1755788400-1755792000@qifstandards.org
SUMMARY:DMSC Board of Directors Meeting
DESCRIPTION:DMSC Board of Directors Meeting from your computer\, tablet or smartphone.\nThese meetings are open exclusively to Directors of the Digital Metrology Standards Consortium. Agendas will be announced by separate email to the Directors relevant to priorities and goals set by the Officers and Directors of the DMSC\, including the DMSC 2020+ Roadmap\, DMSC Working Groups activities\, QIF 4.0 (next generation)\, ANSI and ISO related initiatives\, Membership Development\, and any requests from organizations and industry sectors working to implement the QIF/ISO 23952:2020 standard. \nSubscribe to receive DMSC News and Announcements for further updates on DMSC activities. \nFor Information on DMSC Membership Opportunities\, click here or contact Executive Director\, Mark Thomas if you are interested in serving on the DMSC Board. \nMeeting Link will be delivered exclusively to DMSC Directors\n 
URL:https://qifstandards.org/event/dmsc-board-of-directors-meeting-117/
LOCATION:Virtual Event
CATEGORIES:DMSC Event
ORGANIZER;CN="Digital Metrology Standards Consortium (DMSC)":MAILTO:director@dmsc-inc.org
END:VEVENT
END:VCALENDAR