BEGIN:VCALENDAR
VERSION:2.0
PRODID:-//DMSC - ECPv6.15.20//NONSGML v1.0//EN
CALSCALE:GREGORIAN
METHOD:PUBLISH
X-ORIGINAL-URL:https://qifstandards.org
X-WR-CALDESC:Events for DMSC
REFRESH-INTERVAL;VALUE=DURATION:PT1H
X-Robots-Tag:noindex
X-PUBLISHED-TTL:PT1H
BEGIN:VTIMEZONE
TZID:America/New_York
BEGIN:DAYLIGHT
TZOFFSETFROM:-0500
TZOFFSETTO:-0400
TZNAME:EDT
DTSTART:20210314T070000
END:DAYLIGHT
BEGIN:STANDARD
TZOFFSETFROM:-0400
TZOFFSETTO:-0500
TZNAME:EST
DTSTART:20211107T060000
END:STANDARD
BEGIN:DAYLIGHT
TZOFFSETFROM:-0500
TZOFFSETTO:-0400
TZNAME:EDT
DTSTART:20220313T070000
END:DAYLIGHT
BEGIN:STANDARD
TZOFFSETFROM:-0400
TZOFFSETTO:-0500
TZNAME:EST
DTSTART:20221106T060000
END:STANDARD
BEGIN:DAYLIGHT
TZOFFSETFROM:-0500
TZOFFSETTO:-0400
TZNAME:EDT
DTSTART:20230312T070000
END:DAYLIGHT
BEGIN:STANDARD
TZOFFSETFROM:-0400
TZOFFSETTO:-0500
TZNAME:EST
DTSTART:20231105T060000
END:STANDARD
END:VTIMEZONE
BEGIN:VEVENT
DTSTART;TZID=America/New_York:20221202T120000
DTEND;TZID=America/New_York:20221202T130000
DTSTAMP:20260424T012850
CREATED:20221128T160812Z
LAST-MODIFIED:20221128T160812Z
UID:5565-1669982400-1669986000@qifstandards.org
SUMMARY:Functional Testing WG
DESCRIPTION:Functional Testing Working Group Kick Off Meeting\nA key strategy for the QIF 4.0 Working Group is to integrate expert content from other related DMSC Working Groups (WG). \nSome of these other DMSC Working Groups are inactive (soon to be revived) and some are new. \nThe first new Working Group will be the “Functional Testing” WG. After developing a WG Charter\, the first task of this WG will be to build a model of non-shape testing\, particularly functional testing. This area is quantitatively different from what QIF has modeled in the past as it is not a shape. \nA WG kick-off meeting is planned\, and anyone with interest or functional testing expertise is invited and welcome to participate (DMSC membership encouraged\, but not required). Feel free to refer or invite a colleague. \nFunctional Testing Working Group – Kickoff Meeting\nFriday 12/2/2022 12pm EST\nhttps://join.external.lmco.com/samuel.r.gambrell/Q4QV3SKQ\n+1 303-824-6166\,\,318455607# \nNote: this is a Skype for Business meeting platform
URL:https://qifstandards.org/event/functional-testing-wg/
LOCATION:Virtual Event
CATEGORIES:DMSC Event
ORGANIZER;CN="Digital Metrology Standards Consortium (DMSC)":MAILTO:director@dmsc-inc.org
END:VEVENT
BEGIN:VEVENT
DTSTART;TZID=America/New_York:20221205T140000
DTEND;TZID=America/New_York:20221205T150000
DTSTAMP:20260424T012850
CREATED:20221121T192747Z
LAST-MODIFIED:20221122T025322Z
UID:5539-1670248800-1670252400@qifstandards.org
SUMMARY:QIF 4.0 Working Group
DESCRIPTION:The newly formed QIF 4.0 Working Group (WG) was activated in Q4-2022. The WG met 1-hour each week to get things started through November\, and will change cadence to every two weeks starting in December 2022 and beyond. \nDaniel Campbell (Capvidia) is the QIF 4.0 WG Chair\nDr. Tom Kramer is the QIF 4.0 WG Project Manager \nContact DMSC Executive Director Mark Thomas for additional information and access to the meeting link:\nEmail: mark.thomas@qifstandards.org\nPhone: 585-451-5800 \n 
URL:https://qifstandards.org/event/qif-4-0-working-group-5/
LOCATION:Virtual Event
CATEGORIES:DMSC Event
ORGANIZER;CN="Digital Metrology Standards Consortium (DMSC)":MAILTO:director@dmsc-inc.org
END:VEVENT
BEGIN:VEVENT
DTSTART;TZID=America/New_York:20221219T140000
DTEND;TZID=America/New_York:20221219T150000
DTSTAMP:20260424T012850
CREATED:20221121T192857Z
LAST-MODIFIED:20221122T025308Z
UID:5541-1671458400-1671462000@qifstandards.org
SUMMARY:QIF 4.0 Working Group
DESCRIPTION:The newly formed QIF 4.0 Working Group (WG) was activated in Q4-2022. The WG met 1-hour each week to get things started through November\, and will change cadence to every two weeks starting in December 2022 and beyond. \nDaniel Campbell (Capvidia) is the QIF 4.0 WG Chair\nDr. Tom Kramer is the QIF 4.0 WG Project Manager \nContact DMSC Executive Director Mark Thomas for additional information and access to the meeting link:\nEmail: mark.thomas@qifstandards.org\nPhone: 585-451-5800 \n 
URL:https://qifstandards.org/event/qif-4-0-working-group-6/
LOCATION:Virtual Event
CATEGORIES:DMSC Event
ORGANIZER;CN="Digital Metrology Standards Consortium (DMSC)":MAILTO:director@dmsc-inc.org
END:VEVENT
END:VCALENDAR