BEGIN:VCALENDAR
VERSION:2.0
PRODID:-//DMSC - ECPv6.15.20//NONSGML v1.0//EN
CALSCALE:GREGORIAN
METHOD:PUBLISH
X-ORIGINAL-URL:https://qifstandards.org
X-WR-CALDESC:Events for DMSC
REFRESH-INTERVAL;VALUE=DURATION:PT1H
X-Robots-Tag:noindex
X-PUBLISHED-TTL:PT1H
BEGIN:VTIMEZONE
TZID:America/New_York
BEGIN:DAYLIGHT
TZOFFSETFROM:-0500
TZOFFSETTO:-0400
TZNAME:EDT
DTSTART:20220313T070000
END:DAYLIGHT
BEGIN:STANDARD
TZOFFSETFROM:-0400
TZOFFSETTO:-0500
TZNAME:EST
DTSTART:20221106T060000
END:STANDARD
BEGIN:DAYLIGHT
TZOFFSETFROM:-0500
TZOFFSETTO:-0400
TZNAME:EDT
DTSTART:20230312T070000
END:DAYLIGHT
BEGIN:STANDARD
TZOFFSETFROM:-0400
TZOFFSETTO:-0500
TZNAME:EST
DTSTART:20231105T060000
END:STANDARD
BEGIN:DAYLIGHT
TZOFFSETFROM:-0500
TZOFFSETTO:-0400
TZNAME:EDT
DTSTART:20240310T070000
END:DAYLIGHT
BEGIN:STANDARD
TZOFFSETFROM:-0400
TZOFFSETTO:-0500
TZNAME:EST
DTSTART:20241103T060000
END:STANDARD
END:VTIMEZONE
BEGIN:VEVENT
DTSTART;VALUE=DATE:20230710
DTEND;VALUE=DATE:20230715
DTSTAMP:20260423T135600
CREATED:20230420T231808Z
LAST-MODIFIED:20230421T220035Z
UID:5797-1688947200-1689379199@qifstandards.org
SUMMARY:Coordinated Metrology Society Conference 2023
DESCRIPTION:The Coordinate Metrology Society Conference (CMSC) is the world’s premier event for Measurement Technology Professionals sponsored by the Coordinate Metrology Society. Established in 1984\, the five-day annual conference is held each year at a different location\, and attracts visitors from around the globe. \nCMSC is acclaimed for its comprehensive program of top-shelf white papers and applications presentations given by industry experts from science/research laboratories and manufacturing industries\, such as aerospace\, space hardware\, antenna\, automotive\, shipbuilding\, power generation\, and general engineering. No other trade show rivals the high level of authoritative information provided by CMSC members and master users of industrial dimensional metrology solutions for quality control\, quality production\, and precision assembly. \nRay Admire\, DMSC Standards Committee Chair\nRay Admire\, DMSC Standards Committee Chair will be presenting at CMSC … click here to learn more about Ray’s topic.\nFor more information about CMSC and the Coordinate Metrology Society\, visit their web site. \n\n  \nIf you are planning to attend CMSC\, please reach out DMSC Executive Director Mark Thomas. We will have DMSC representatives and possibly DMSC Member Companies present.
URL:https://qifstandards.org/event/coordinated-metrology-society-conference/
LOCATION:Mobile Convention Center\, 1 South Water Street\, Mobile\, AL\, 36602\, United States
CATEGORIES:Industry Event
END:VEVENT
END:VCALENDAR