BEGIN:VCALENDAR
VERSION:2.0
PRODID:-//DMSC - ECPv6.15.20//NONSGML v1.0//EN
CALSCALE:GREGORIAN
METHOD:PUBLISH
X-WR-CALNAME:DMSC
X-ORIGINAL-URL:https://qifstandards.org
X-WR-CALDESC:Events for DMSC
REFRESH-INTERVAL;VALUE=DURATION:PT1H
X-Robots-Tag:noindex
X-PUBLISHED-TTL:PT1H
BEGIN:VTIMEZONE
TZID:America/New_York
BEGIN:DAYLIGHT
TZOFFSETFROM:-0500
TZOFFSETTO:-0400
TZNAME:EDT
DTSTART:20220313T070000
END:DAYLIGHT
BEGIN:STANDARD
TZOFFSETFROM:-0400
TZOFFSETTO:-0500
TZNAME:EST
DTSTART:20221106T060000
END:STANDARD
BEGIN:DAYLIGHT
TZOFFSETFROM:-0500
TZOFFSETTO:-0400
TZNAME:EDT
DTSTART:20230312T070000
END:DAYLIGHT
BEGIN:STANDARD
TZOFFSETFROM:-0400
TZOFFSETTO:-0500
TZNAME:EST
DTSTART:20231105T060000
END:STANDARD
BEGIN:DAYLIGHT
TZOFFSETFROM:-0500
TZOFFSETTO:-0400
TZNAME:EDT
DTSTART:20240310T070000
END:DAYLIGHT
BEGIN:STANDARD
TZOFFSETFROM:-0400
TZOFFSETTO:-0500
TZNAME:EST
DTSTART:20241103T060000
END:STANDARD
END:VTIMEZONE
BEGIN:VEVENT
DTSTART;VALUE=DATE:20231024
DTEND;VALUE=DATE:20231027
DTSTAMP:20260423T085039
CREATED:20230420T230241Z
LAST-MODIFIED:20230420T230241Z
UID:5794-1698105600-1698364799@qifstandards.org
SUMMARY:The Quality Show
DESCRIPTION:Improving Your Manufacturing Process. \nThe Quality Show (launched in 2015) is a 3-day trade show dedicated to connecting quality manufacturing professionals with process improvement vendors for all things QUALITY. Join thousands of quality managers\, engineers and manufacturing professionals to network\, attend education sessions and test out the latest technologies and products that will improve quality and productivity in your manufacturing process. \nRegistration is now open for the 2023 Quality Show. \n\n\nWe may have DMSC representatives or member companies in attendance. If you are planning to attend\, please reach out to Mark Thomas by email and let him know.
URL:https://qifstandards.org/event/the-quality-show-2/
LOCATION:Donald E. Stevens Convention Center\, 5555 N River Rd.\, Rosemont\, IL\, 60018\, United States
CATEGORIES:Industry Event
ORGANIZER;CN="Quality Magazine/BNP Media":MAILTO:QualityShow@executivevents.com
END:VEVENT
END:VCALENDAR